BEGIN:VCALENDAR
VERSION:2.0
PRODID:-//ChamberMaster//Event Calendar 2.0//EN
METHOD:PUBLISH
X-PUBLISHED-TTL:P3D
REFRESH-INTERVAL:P3D
CALSCALE:GREGORIAN
BEGIN:VEVENT
DTSTART:20211002T160000Z
DTEND:20211002T180000Z
X-MICROSOFT-CDO-ALLDAYEVENT:FALSE
SUMMARY:Yo-Yo Exhibit Grand Opening
DESCRIPTION:GRAND OPENING of the Yo-Yo exhibit which was designed and funded by Flambeau\, Inc of Baraboo.\n\nCome see why yo-yos spin at the end of a string and how pendulums work with a yo-yo! See the exciting yo-yo tricks performed by a yo-yo professional!
X-ALT-DESC;FMTTYPE=text/html:<span style="color: rgb(5\, 5\, 5)\; font-family: &quot\;Segoe UI Historic&quot\;\, &quot\;Segoe UI&quot\;\, Helvetica\, Arial\, sans-serif\; font-size: 15px\;">GRAND OPENING of the Yo-Yo exhibit which was designed and funded by Flambeau\, Inc of Baraboo.</span><br style="color: rgb(5\, 5\, 5)\; font-family: &quot\;Segoe UI Historic&quot\;\, &quot\;Segoe UI&quot\;\, Helvetica\, Arial\, sans-serif\; font-size: 15px\;" />\n<span style="color: rgb(5\, 5\, 5)\; font-family: &quot\;Segoe UI Historic&quot\;\, &quot\;Segoe UI&quot\;\, Helvetica\, Arial\, sans-serif\; font-size: 15px\;">Come see why yo-yos spin at the end of a string and how pendulums work with a yo-yo! See the exciting yo-yo tricks performed by a yo-yo professional!</span>
LOCATION:Baraboo Children's Museum\, 1211 Eighth St.
UID:e.110.54448
SEQUENCE:3
DTSTAMP:20260420T230444Z
URL:https://chamber.baraboo.com/events/details/yo-yo-exhibit-grand-opening-54448
END:VEVENT

END:VCALENDAR
