BEGIN:VCALENDAR
VERSION:2.0
PRODID:-//ChamberMaster//Event Calendar 2.0//EN
METHOD:PUBLISH
X-PUBLISHED-TTL:P3D
REFRESH-INTERVAL:P3D
CALSCALE:GREGORIAN
BEGIN:VEVENT
DTSTART:20220604T180000Z
DTEND:20220630T230000Z
X-MICROSOFT-CDO-ALLDAYEVENT:FALSE
SUMMARY:WI Conceal Carry Class
DESCRIPTION:WI Conceal Carry License Class - Instruction only - Perfect for those who own a firearm and want the certification.\nDATE:  June 4\, 2022\n\nTIME:  1:00 p.m. - 6:00 p.m.\n\nPrerequisite: 21 years and older\n\nFee: $70\n\nMaximum: 15 students\n\n\n\nRegister at https://training.usconcealedcarry.com/class/wisconsin-conceal-carry/7cc71004-5dd9-11ec-888f-02420a0207d0\n\nNOTICE:  72 HOUR CANCELLATION REQUIRED FOR REFUND OR RESCHEDULE.\n\n\n\nPLEASE NOTE: Per NRA and USCCA training guidelines\, firearms and live ammunition are NOT permitted in the classroom training environment. Please plan accordingly. \nWisconsin Concealed Carry (33 Reciprocating States): With the option of adding Florida CC $30.00 day of class. This comprehensive course\, taught by USCCA and NRA Certified instructors\, focuses on basic firearm safety and one-on-one safe gun handling skills. We will discuss the attitude\, training\, and mindset necessary to responsibly own and carry a concealed weapon. Personal defense topics including the legal use of deadly force\, concealed carry techniques\, as well as safety in your home and the safe storage of firearms will be covered. This course includes Certificate of Training for submission with permit application. There is a $40 application fee at time of application submitted to the Wisconsin DOJ. Focus areas within this course include:   Developing a Personal Protection plan   Situational Awareness   The legal use of force   The after math of violent encounters   Self- Defense firearm basics   Universal Firearm Safety   Safe Firearm Storage   Safe unloading procedures   Handgun platform comparisons   Types of Ammunition   Concealment methods (holsters\, off-body carry options.) WI Concealed Carry Application\n\nSave time! Fill out your waiver ahead of time before you attend class or visit the Range.\n\nhttps://waiver.smartwaiver.com/w/5df29cee1eb4a/web/\n\n \n\nNEW - Florida Concealed Carry Addon (37 Reciprocating States):\n\nDEZ is now offering an extended class that will qualify you to apply for the Wisconsin Concealed Carry License in addition to the non-resident Florida Concealed Carry License. The Florida license will allow you to carry in several other states that do not recognize the Wisconsin Concealed Carry License (please reference the USCCA reciprocity map).\n\n \n\nThis class will include a live fire qualification in our indoor range. You may bring your own firearm and ammunition (20 rounds+)\, or rent one of ours (additional rental fee). This will add roughly 1 hour of time to the class length (5+ hours total). Following the class\, you will need to apply for the FL non-resident permit and use your proof-of-training certificate that we present to you upon completion of the class.\n\n \n\nFlorida Concealed Carry Application https://licensing.freshfromflorida.com/.../formsrequest79...\n\n\n\nIf you are adding the Florida Conceal Carry option\, you will need to have a handgun or rent @ $20 plus the cost of ammo.
X-ALT-DESC;FMTTYPE=text/html:<div>\n<div>WI Conceal Carry License Class - Instruction only - Perfect for those who own a firearm and want the certification.\n<p>DATE:&nbsp\; June 4\, 2022</p>\n\n<p>TIME:&nbsp\; 1:00 p.m. - 6:00 p.m.</p>\n\n<p>Prerequisite: 21 years and older<br />\nFee: $70<br />\nMaximum: 15 students<br />\n<br />\n<a href="https://training.usconcealedcarry.com/class/wisconsin-conceal-carry/7cc71004-5dd9-11ec-888f-02420a0207d0">Register at</a> <a href="https://training.usconcealedcarry.com/class/wisconsin-conceal-carry/7cc71004-5dd9-11ec-888f-02420a0207d0">https://training.usconcealedcarry.com/class/wisconsin-conceal-carry/7cc71004-5dd9-11ec-888f-02420a0207d0</a></p>\n\n<p><span style="color:#ff0000">NOTICE:&nbsp\; 72 HOUR CANCELLATION REQUIRED FOR REFUND OR RESCHEDULE.<br />\n<br />\n<strong>PLEASE NOTE:</strong> Per NRA and USCCA training guidelines\, firearms and live ammunition are NOT permitted in the classroom training environment. Please plan accordingly. </span></p>\nWisconsin Concealed Carry (33 Reciprocating States): With the option of adding Florida CC $30.00 day of class. This comprehensive course\, taught by USCCA and NRA Certified instructors\, focuses on basic firearm safety and one-on-one safe gun handling skills. We will discuss the attitude\, training\, and mindset necessary to responsibly own and carry a concealed weapon. Personal defense topics including the legal use of deadly force\, concealed carry techniques\, as well as safety in your home and the safe storage of firearms will be covered. This course includes Certificate of Training for submission with permit application. There is a $40 application fee at time of application submitted to the Wisconsin DOJ. Focus areas within this course include: &bull\; Developing a Personal Protection plan &bull\; Situational Awareness &bull\; The legal use of force &bull\; The after math of violent encounters &bull\; Self- Defense firearm basics &bull\; Universal Firearm Safety &bull\; Safe Firearm Storage &bull\; Safe unloading procedures &bull\; Handgun platform comparisons &bull\; Types of Ammunition &bull\; Concealment methods (holsters\, off-body carry options.) WI Concealed Carry Application\n\n<div><span dir="auto">Save time! Fill out your waiver ahead of time before you attend class or visit the Range.<br />\n<a class="oajrlxb2 g5ia77u1 qu0x051f esr5mh6w e9989ue4 r7d6kgcz rq0escxv nhd2j8a9 nc684nl6 p7hjln8o kvgmc6g5 cxmmr5t8 oygrvhab hcukyx3x jb3vyjys rz4wbd8a qt6c0cv9 a8nywdso i1ao9s8h esuyzwwr f1sip0of lzcic4wl py34i1dx gpro0wi8" href="https://waiver.smartwaiver.com/w/5df29cee1eb4a/web/?fbclid=IwAR2iMHrvwqkG93JHHF8S85xAirQw9yxzPDf6etcJ_jMpxnjpw5BMP9quSgA" rel="nofollow noopener" tabindex="0" target="_blank">https://waiver.smartwaiver.com/w/5df29cee1eb4a/web/</a></span><br />\n&nbsp\;</div>\n\n<div><span dir="auto">NEW - Florida Concealed Carry Addon (37 Reciprocating States):</span></div>\n\n<div><span dir="auto">DEZ is now offering an extended class that will qualify you to apply for the Wisconsin Concealed Carry License in addition to the non-resident Florida Concealed Carry License. The Florida license will allow you to carry in several other states that do not recognize the Wisconsin Concealed Carry License (please reference the USCCA reciprocity map).</span><br />\n&nbsp\;</div>\n\n<div><span dir="auto">This class will include a live fire qualification in our indoor range. You may bring your own firearm and ammunition (20 rounds+)\, or rent one of ours (additional rental fee). This will add roughly 1 hour of time to the class length (5+ hours total). Following the class\, you will need to apply for the FL non-resident permit and use your proof-of-training certificate that we present to you upon completion of the class.</span><br />\n&nbsp\;</div>\n\n<div><span dir="auto">Florida Concealed Carry Application <a class="oajrlxb2 g5ia77u1 qu0x051f esr5mh6w e9989ue4 r7d6kgcz rq0escxv nhd2j8a9 nc684nl6 p7hjln8o kvgmc6g5 cxmmr5t8 oygrvhab hcukyx3x jb3vyjys rz4wbd8a qt6c0cv9 a8nywdso i1ao9s8h esuyzwwr f1sip0of lzcic4wl py34i1dx gpro0wi8" href="https://licensing.freshfromflorida.com/forms/formsrequest790.aspx?fbclid=IwAR0Dm4lfw4cwk7rFd8NjkuqcaB6IWXWvpMDJaZj5ETEvxDj_HeFvihAErfU" rel="nofollow noopener" tabindex="0" target="_blank">https://licensing.freshfromflorida.com/.../formsrequest79...</a></span></div>\n\n<div><br />\n<span dir="auto">If you are adding the Florida Conceal Carry option\, you will need to have a handgun or rent @ $20 plus the cost of ammo.</span>\n\n<div>&nbsp\;</div>\n</div>\n\n<p>&nbsp\;</p>\n</div>\n</div>\n
LOCATION:DEZ Tactical Arms\, Inc. 1223 South Blvd. Baraboo\, WI 53913 (Across from Farm & Fleet)
UID:e.110.55169
SEQUENCE:3
DTSTAMP:20260424T082530Z
URL:https://chamber.baraboo.com/events/details/wi-conceal-carry-class-06-04-2022-55169
END:VEVENT

END:VCALENDAR
