BEGIN:VCALENDAR
VERSION:2.0
PRODID:-//ChamberMaster//Event Calendar 2.0//EN
METHOD:PUBLISH
X-PUBLISHED-TTL:P3D
REFRESH-INTERVAL:P3D
CALSCALE:GREGORIAN
BEGIN:VEVENT
DTSTART:20230321T210000Z
DTEND:20230321T220000Z
X-MICROSOFT-CDO-ALLDAYEVENT:FALSE
SUMMARY:Teen Tuesday: Teen Advisory Board
DESCRIPTION:Help us plan our next round of teen programs! Snacks\, including allergen-free options\, will be available.
X-ALT-DESC;FMTTYPE=text/html:Help us plan our next round of teen programs! Snacks\, including allergen-free options\, will be available.
LOCATION:Carnegie-Schadde Memorial Public Library
UID:e.110.56810
SEQUENCE:3
DTSTAMP:20260421T111249Z
URL:https://chamber.baraboo.com/events/details/teen-tuesday-teen-advisory-board-03-21-2023-56810
END:VEVENT

END:VCALENDAR
