BEGIN:VCALENDAR
VERSION:2.0
PRODID:-//ChamberMaster//Event Calendar 2.0//EN
METHOD:PUBLISH
X-PUBLISHED-TTL:P3D
REFRESH-INTERVAL:P3D
CALSCALE:GREGORIAN
BEGIN:VEVENT
DTSTART:20221019T150000Z
DTEND:20221019T160000Z
X-MICROSOFT-CDO-ALLDAYEVENT:FALSE
SUMMARY:Stories in the Park
DESCRIPTION:Wednesdays at 10AM September 7-November 2 Ochsner Park\, 903 Park Street For children Birth-5 years old Join Ms. Beth and Ms. Cari Jo for a story time of songs\, stories\, and rhymes at the main shelter of Ochsner Park. After story time\, plan to stay and play at the playground.
X-ALT-DESC;FMTTYPE=text/html:Wednesdays at 10AM September 7-November 2 Ochsner Park\, 903 Park Street For children Birth-5 years old Join Ms. Beth and Ms. Cari Jo for a story time of songs\, stories\, and rhymes at the main shelter of Ochsner Park. After story time\, plan to stay and play at the playground.
LOCATION:Ochsner Park Main Shelter 903 Park Street Baraboo\, WI 53913
UID:e.110.56565
SEQUENCE:3
DTSTAMP:20260421T114949Z
URL:https://chamber.baraboo.com/events/details/stories-in-the-park-10-19-2022-56565
END:VEVENT

END:VCALENDAR
