BEGIN:VCALENDAR
VERSION:2.0
PRODID:-//ChamberMaster//Event Calendar 2.0//EN
METHOD:PUBLISH
X-PUBLISHED-TTL:P3D
REFRESH-INTERVAL:P3D
CALSCALE:GREGORIAN
BEGIN:VEVENT
DTSTART:20211009T150000Z
DTEND:20211009T210000Z
X-MICROSOFT-CDO-ALLDAYEVENT:FALSE
SUMMARY:Rogues & Ruffians Renaissance Faire
DESCRIPTION:Shakespeare on the Edge\, a youth non-profit\, presents the 13th Annual A Gathering of Rogues and Ruffians Renassaince Faire at Circus World Museum in Baraboo\, WI.  Come join us for this weekend of merriment and support youth arts in Southern Wisconsin.  100 artisans and merchants\, entertainment\, axe throwing\, archery\, fire\, fanfare and merriment\, food\, and even a joust!  You don't want to miss this weekend of amazing fun.  Be There! Rain or shine.  This is an outdoor faire.
X-ALT-DESC;FMTTYPE=text/html:<span style="font-family: Helvetica\, Arial\, sans-serif\; font-size: 12px\;">Shakespeare on the Edge\, a youth non-profit\, presents the 13th Annual A Gathering of Rogues and Ruffians Renassaince Faire at Circus World Museum in Baraboo\, WI. &nbsp\;Come join us for this weekend of merriment and support youth arts in Southern Wisconsin. &nbsp\;100 artisans and merchants\, entertainment\, axe throwing\, archery\, fire\, fanfare and merriment\, food\, and even a joust! &nbsp\;You don&#39\;t want to miss this weekend of amazing fun. &nbsp\;Be There! Rain or shine. &nbsp\;This is an outdoor faire.</span>
LOCATION:Circus World\, 550 Water St.\, Baraboo
UID:e.110.54429
SEQUENCE:3
DTSTAMP:20260422T035709Z
URL:https://chamber.baraboo.com/events/details/rogues-ruffians-renaissance-faire-54429
END:VEVENT

END:VCALENDAR
