BEGIN:VCALENDAR
VERSION:2.0
PRODID:-//ChamberMaster//Event Calendar 2.0//EN
METHOD:PUBLISH
X-PUBLISHED-TTL:P3D
REFRESH-INTERVAL:P3D
CALSCALE:GREGORIAN
BEGIN:VEVENT
DTSTART:20260503T123000Z
DTEND:20260503T170000Z
X-MICROSOFT-CDO-ALLDAYEVENT:FALSE
SUMMARY:Pancake Breakfast
DESCRIPTION:Pancake Breakfast-pancakes\, sausages\, eggs. hashbrowns\, pastries\, water\, coffee\, milk\, juice.
X-ALT-DESC;FMTTYPE=text/html:Pancake Breakfast-pancakes\, sausages\, eggs. hashbrowns\, pastries\, water\, coffee\, milk\, juice.
LOCATION:Baraboo Civic Center Gym 124 2nd Street Baraboo\, WI 539134
UID:e.110.66688
SEQUENCE:3
DTSTAMP:20260419T220908Z
URL:https://chamber.baraboo.com/events/details/pancake-breakfast-66688
END:VEVENT

END:VCALENDAR
