BEGIN:VCALENDAR
VERSION:2.0
PRODID:-//ChamberMaster//Event Calendar 2.0//EN
METHOD:PUBLISH
X-PUBLISHED-TTL:P3D
REFRESH-INTERVAL:P3D
CALSCALE:GREGORIAN
BEGIN:VEVENT
DTSTART:20200620T180000Z
DTEND:20200620T203000Z
X-MICROSOFT-CDO-ALLDAYEVENT:FALSE
SUMMARY:CANCELED Legally Blonde - The Musical
DESCRIPTION:CANCELED Based on the novel and the hit-movie of the same name\, Legally Blonde: the Musical chronicles the journey of the famously perky Elle Woods\, a fashion-savvy\, UCLA sorority girl who finds her life turned upside down when she is dumped by her boyfriend Warner. In an effort to prove to Warner that she is more than just some blonde sorority girl\, she follows him to Harvard Law\, where she struggles to fit in and do well. Ultimately\, she defies expectations and manages to stay true to her delightfully pink personality
X-ALT-DESC;FMTTYPE=text/html:<span style="color:rgb(34\, 34\, 34)\; font-family:oxygen\,tahoma\,arial\,helvetica\,sans-serif\; font-size:16px"><span style="background-color:#FFFFFF">CANCELED Based on the novel and the hit-movie of the same name\, Legally Blonde: the Musical chronicles the journey of the famously perky Elle Woods\, a fashion-savvy\, UCLA sorority girl who finds her life turned upside down when she is dumped by her boyfriend Warner. In an effort to prove to Warner that she is more than just some blonde sorority girl\, she follows him to Harvard Law\, where she struggles to fit in and do well. Ultimately\, she defies expectations and manages to stay true to her delightfully pink personality</span></span>
LOCATION:The Palace Theater 564 Wisconsin Dells Parkway South Wisconsin Dells\, WI 53965
UID:e.110.50453
SEQUENCE:3
DTSTAMP:20260421T135704Z
URL:https://chamber.baraboo.com/events/details/legally-blonde-the-musical-06-20-2020-50453
END:VEVENT

END:VCALENDAR
