BEGIN:VCALENDAR
VERSION:2.0
PRODID:-//ChamberMaster//Event Calendar 2.0//EN
METHOD:PUBLISH
X-PUBLISHED-TTL:P3D
REFRESH-INTERVAL:P3D
CALSCALE:GREGORIAN
BEGIN:VEVENT
DTSTART:20240420T153000Z
DTEND:20240420T173000Z
X-MICROSOFT-CDO-ALLDAYEVENT:FALSE
SUMMARY:Dog Obedience
DESCRIPTION:The instructor will teach the handlers how to train their dog for a lifelong commitment to basic manners and obedience. The dog will be taught to relinquish an object\, enter/exit commands\, the off command and how to retrieve. The dog will learn basic manners and obedience commands. Information will be given on dog laws grooming\, dog proofing your home\, just to name a few. The dog handler must be a minimum of 12 yrs. of age. The dog must have the required vaccinations including bordetella (kennel cough) and written proof must be provided at the first class. The dog should be over 12 months old. This class is held outside and individual class sessions may be rescheduled due to weather.
X-ALT-DESC;FMTTYPE=text/html:The instructor will teach the handlers how to train their dog for a lifelong commitment to basic manners and obedience. The dog will be taught to relinquish an object\, enter/exit commands\, the off command and how to retrieve. The dog will learn basic manners and obedience commands. Information will be given on dog laws grooming\, dog proofing your home\, just to name a few. The dog handler must be a minimum of 12 yrs. of age. The dog must have the required vaccinations including bordetella (kennel cough) and written proof must be provided at the first class. The dog should be over 12 months old. This class is held outside and individual class sessions may be rescheduled due to weather.
LOCATION:Madison College Reedsburg Campus
UID:e.110.61303
SEQUENCE:3
DTSTAMP:20260425T114315Z
URL:https://chamber.baraboo.com/events/details/dog-obedience-04-20-2024-61303
END:VEVENT

END:VCALENDAR
