BEGIN:VCALENDAR
VERSION:2.0
PRODID:-//ChamberMaster//Event Calendar 2.0//EN
METHOD:PUBLISH
X-PUBLISHED-TTL:P3D
REFRESH-INTERVAL:P3D
CALSCALE:GREGORIAN
BEGIN:VEVENT
DTSTART:20240218T010000Z
DTEND:20240218T040000Z
X-MICROSOFT-CDO-ALLDAYEVENT:FALSE
SUMMARY:BTG presents "Waiting for Godot"
DESCRIPTION:The Baraboo Theatre Guild proudly presents WAITING FOR GODOT\n\nat the RG Brown Theatre!\n\nWritten by Samuel Beckett\n\nDirected by Emily Reno\n\nIn this dystopia comedy\, Vladimir and Estragon assume there is a point to their lives. With no confirmation\, they have made an appointment with the mysterious Godot. Now\, all they have to do is wait.\n\nTickets go on sale January 8th!\n\nFridays\, Feb 2 & 9 - 7:00PM\n\nSaturdays\, Feb 3 & 10 - 7:00PM\n\nSundays\, Feb 4 & 11 - 2:00PM\n\n(Ticket price includes Sales Tax)\n\nIn Person: Corner Drug/Hometown Pharmacy\n\nOnline: www.barabootheatreguild.org\n\nCan be purchased at the door day of show.
X-ALT-DESC;FMTTYPE=text/html:<div class="xdj266r x11i5rnm xat24cr x1mh8g0r x1vvkbs" style="margin: 0px\; overflow-wrap: break-word\; font-family: &quot\;Segoe UI Historic&quot\;\, &quot\;Segoe UI&quot\;\, Helvetica\, Arial\, sans-serif\; color: rgb(5\, 5\, 5)\; font-size: 15px\;">The Baraboo Theatre Guild proudly presents WAITING FOR GODOT<br />\nat the RG Brown Theatre!</div>\n\n<div class="x11i5rnm xat24cr x1mh8g0r x1vvkbs xtlvy1s" style="margin: 0.5em 0px 0px\; overflow-wrap: break-word\; font-family: &quot\;Segoe UI Historic&quot\;\, &quot\;Segoe UI&quot\;\, Helvetica\, Arial\, sans-serif\; color: rgb(5\, 5\, 5)\; font-size: 15px\;">Written by Samuel Beckett<br />\nDirected by Emily Reno</div>\n\n<div class="x11i5rnm xat24cr x1mh8g0r x1vvkbs xtlvy1s" style="margin: 0.5em 0px 0px\; overflow-wrap: break-word\; font-family: &quot\;Segoe UI Historic&quot\;\, &quot\;Segoe UI&quot\;\, Helvetica\, Arial\, sans-serif\; color: rgb(5\, 5\, 5)\; font-size: 15px\;">In this dystopia comedy\, Vladimir and Estragon assume there is a point to their lives. With no confirmation\, they have made an appointment with the mysterious Godot. Now\, all they have to do is wait.</div>\n\n<div class="x11i5rnm xat24cr x1mh8g0r x1vvkbs xtlvy1s" style="margin: 0.5em 0px 0px\; overflow-wrap: break-word\; font-family: &quot\;Segoe UI Historic&quot\;\, &quot\;Segoe UI&quot\;\, Helvetica\, Arial\, sans-serif\; color: rgb(5\, 5\, 5)\; font-size: 15px\;">Tickets go on sale January 8th!</div>\n\n<div class="x11i5rnm xat24cr x1mh8g0r x1vvkbs xtlvy1s" style="margin: 0.5em 0px 0px\; overflow-wrap: break-word\; font-family: &quot\;Segoe UI Historic&quot\;\, &quot\;Segoe UI&quot\;\, Helvetica\, Arial\, sans-serif\; color: rgb(5\, 5\, 5)\; font-size: 15px\;">Fridays\, Feb 2 &amp\; 9 - 7:00PM<br />\nSaturdays\, Feb 3 &amp\; 10 - 7:00PM<br />\nSundays\, Feb 4 &amp\; 11 - 2:00PM<br />\n(Ticket price includes Sales Tax)</div>\n\n<div class="x11i5rnm xat24cr x1mh8g0r x1vvkbs xtlvy1s" style="margin: 0.5em 0px 0px\; overflow-wrap: break-word\; font-family: &quot\;Segoe UI Historic&quot\;\, &quot\;Segoe UI&quot\;\, Helvetica\, Arial\, sans-serif\; color: rgb(5\, 5\, 5)\; font-size: 15px\;">In Person: Corner Drug/Hometown Pharmacy<br />\nOnline:&nbsp\;<a class="x1i10hfl xjbqb8w x6umtig x1b1mbwd xaqea5y xav7gou x9f619 x1ypdohk xt0psk2 xe8uvvx xdj266r x11i5rnm xat24cr x1mh8g0r xexx8yu x4uap5 x18d9i69 xkhd6sd x16tdsg8 x1hl2dhg xggy1nq x1a2a7pz xt0b8zv x1fey0fg" href="https://l.facebook.com/l.php?u=http%3A%2F%2Fwww.barabootheatreguild.org%2F%3Ffbclid%3DIwAR2E6knV0Z0hHy8uXRoUzoTdeCk4dcuiujobUtjO2ys-iTNAL-XqoqWWxQI&amp\;h=AT1dOPl9goz9NAt7gp3TevcG7jL9vIXyNN_SzgTtD3cLFCXHM9wgeyhmgaQHHbcdn7Jp3bWq36dC3exI0W14JqMwLAoyVZnIHTktJnBYhR6aOda9GTRtPhbKNt1RPxmJJQ9q&amp\;__tn__=q&amp\;c[0]=AT3cCBccLZmTLKipQdrTSIZ0ThZIIaofymKyHb5qk3cJWNVm66fr0gAiIQ8SXqwNJDG0RlleK6JsvNI0u1_EYuESurxToWRaOZJPeVs6TRpDGI7IpInAU339znXV_SfXdvsXn7PVegmhQcM8xLY84l_DkodW" rel="nofollow noreferrer" role="link" style="color: var(--blue-link)\; cursor: pointer\; text-decoration-line: none\; outline: none\; border-width: 0px\; border-style: initial\; border-color: initial\; list-style: none\; margin: 0px\; text-align: inherit\; padding: 0px\; box-sizing: border-box\; background-color: transparent\; -webkit-tap-highlight-color: transparent\; touch-action: manipulation\; display: inline\; font-family: inherit\;" tabindex="0" target="_blank">www.barabootheatreguild.org</a></div>\n\n<div class="x11i5rnm xat24cr x1mh8g0r x1vvkbs xtlvy1s" style="margin: 0.5em 0px 0px\; overflow-wrap: break-word\; font-family: &quot\;Segoe UI Historic&quot\;\, &quot\;Segoe UI&quot\;\, Helvetica\, Arial\, sans-serif\; color: rgb(5\, 5\, 5)\; font-size: 15px\;">Can be purchased at the door day of show.</div>\n
LOCATION:Brown Theatre UW-Platteville Baraboo/Sauk County 1006 Connie Road\, Baraboo
UID:e.110.61241
SEQUENCE:3
DTSTAMP:20260421T084525Z
URL:https://chamber.baraboo.com/events/details/btg-presents-waiting-for-godot-61241
END:VEVENT

END:VCALENDAR
