BEGIN:VCALENDAR
VERSION:2.0
PRODID:-//ChamberMaster//Event Calendar 2.0//EN
METHOD:PUBLISH
X-PUBLISHED-TTL:P3D
REFRESH-INTERVAL:P3D
CALSCALE:GREGORIAN
BEGIN:VEVENT
DTSTART:20221106T180000Z
DTEND:20221106T220000Z
X-MICROSOFT-CDO-ALLDAYEVENT:FALSE
SUMMARY:Basic Handgun
DESCRIPTION:DATE: Sunday. November 6\, 2022\n\nTIME: 12:00 pm - 4:00 p.m.\n\nPrerequisite:  21 years old\n\nPlease complete the online waiver prior to class https://waiver.smartwaiver.com/w/5df29cee1eb4a/web/\n\nFee: $130.00 Fee includes .22 caliber pistol (provided)\, 60 rounds of ammo\, eye\, ear protection and a target.\n\nMaximum Students: 10      \n\n\n\nRegister at  https://training.usconcealedcarry.com/class/basic-handgun/b4f6aeb8-5ddd-11ec-99b8-02420a0207d0                                                             \n\nPrerequisite: 21 years old\n\nRegister at https://training.usconcealedcarry.com/class/basic-handgun/b4f6aeb8-5ddd-11ec-99b8-02420a0207d0\n\n \n\nDEZ's Basics of Pistol class is taught by our USCCA/NRA certified instructors who are proficient in the instruction and handling of handguns. The 3 to 3.5 hr. course allows for close\, personal hands-on attention in a relaxed classroom environment. Low student to instructor ratio is designed around the fundamental skills behind shooting handguns safely\, accurately and defensively. Other materials covered in this course would be gear\, accessories\, safe storage and the basics of cleaning and maintaining your firearm.\n\nFocus areas include:\n\n  Safety\n\n  Loading and unloading\n\n  Nomenclature (Parts)\n\n  Stance and grip\n\n  Sight alignment and trigger press\n\n  Cleaning overview\n\n  Storage\n\n  Ammunition selection\n\n  Live fire (Shooting) In our state-of-the-art climate controlled indoor range\n\nEquipment Needed: Eye and Ear Protection (.22 Handgun and Ammunition will be Provided)\n\nLive Fire\n\nThis class includes range time.\n\n$130.00 Fee includes .22 caliber pistol (provided)\, 60 rounds of ammo\, eye\, ear protection and a target.\n\nProper range attire: No low cut tops or open toed shoes. Ball Caps are encouraged but not required.
X-ALT-DESC;FMTTYPE=text/html:<p style="text-align:left">DATE: Sunday. November 6\, 2022</p>\n\n<p style="text-align:left">TIME: 12:00 pm - 4:00 p.m.</p>\n\n<p>Prerequisite:&nbsp\; 21 years old</p>\n\n<p>Please complete the online waiver prior to class <a href="https://waiver.smartwaiver.com/w/5df29cee1eb4a/web/?fbclid=IwAR0z5z08nWxRN_tT8wk5Scxl9GXFVFZ2NF832raWDnQVn_5Z1XghTR9oMu0" target="_blank">https://waiver.smartwaiver.com/w/5df29cee1eb4a/web/</a></p>\n\n<p>Fee: $130.00 Fee includes .22 caliber pistol (provided)\, 60 rounds of ammo\, eye\, ear protection and a target.</p>\n\n<p>Maximum Students: 10<sub> &nbsp\;&nbsp\;&nbsp\;&nbsp\;&nbsp\;<br />\n<br />\nRegister at&nbsp\;&nbsp\;</sub><a href="https://training.usconcealedcarry.com/class/basic-handgun/b4f6aeb8-5ddd-11ec-99b8-02420a0207d0">https://training.usconcealedcarry.com/class/basic-handgun/b4f6aeb8-5ddd-11ec-99b8-02420a0207d0</a><sub>&nbsp\;&nbsp\;&nbsp\;&nbsp\;&nbsp\;&nbsp\;&nbsp\;&nbsp\;&nbsp\;&nbsp\;&nbsp\;&nbsp\;&nbsp\;&nbsp\;&nbsp\;&nbsp\;&nbsp\;&nbsp\;&nbsp\;&nbsp\;&nbsp\;&nbsp\;&nbsp\;&nbsp\;&nbsp\;&nbsp\;&nbsp\;&nbsp\;&nbsp\;&nbsp\;&nbsp\;&nbsp\;&nbsp\;&nbsp\;&nbsp\;&nbsp\;&nbsp\;&nbsp\;&nbsp\;&nbsp\;&nbsp\;&nbsp\;&nbsp\;&nbsp\;&nbsp\;&nbsp\;&nbsp\;&nbsp\;&nbsp\;&nbsp\;&nbsp\;&nbsp\;&nbsp\;&nbsp\;&nbsp\;&nbsp\;&nbsp\;&nbsp\;&nbsp\;&nbsp\; </sub></p>\n\n<div><span dir="auto">Prerequisite: 21 years old</span></div>\n\n<div><span dir="auto">Register at </span>https://training.usconcealedcarry.com/class/basic-handgun/b4f6aeb8-5ddd-11ec-99b8-02420a0207d0<br />\n&nbsp\;</div>\n\n<div><span dir="auto">DEZ&rsquo\;s Basics of Pistol class is taught by our USCCA/NRA certified instructors who are proficient in the instruction and handling of handguns. The 3 to 3.5 hr. course allows for close\, personal hands-on attention in a relaxed classroom environment. Low student to instructor ratio is designed around the fundamental skills behind shooting handguns safely\, accurately and defensively. Other materials covered in this course would be gear\, accessories\, safe storage and the basics of cleaning and maintaining your firearm.</span></div>\n\n<div><span dir="auto">Focus areas include:</span></div>\n\n<div><span dir="auto">&bull\; Safety<br />\n&bull\; Loading and unloading<br />\n&bull\; Nomenclature (Parts)<br />\n&bull\; Stance and grip<br />\n&bull\; Sight alignment and trigger press<br />\n&bull\; Cleaning overview<br />\n&bull\; Storage<br />\n&bull\; Ammunition selection<br />\n&bull\; Live fire (Shooting) In our state-of-the-art climate controlled indoor range</span></div>\n\n<div><span dir="auto">Equipment Needed: Eye and Ear Protection (.22 Handgun and Ammunition will be Provided)<br />\nLive Fire</span></div>\n\n<div><span dir="auto">This class includes range time.</span></div>\n\n<p>$130.00 Fee includes .22 caliber pistol (provided)\, 60 rounds of ammo\, eye\, ear protection and a target.</p>\n\n<p><strong>Proper range attire:</strong> No low cut tops or open toed shoes. Ball Caps are encouraged but not required.</p>\n
LOCATION:DEZ Tactical Arms\, Inc. 1223 South Blvd. Baraboo\, WI 53913
UID:e.110.56723
SEQUENCE:3
DTSTAMP:20260419T154251Z
URL:https://chamber.baraboo.com/events/details/basic-handgun-11-06-2022-56723
END:VEVENT

END:VCALENDAR
