BEGIN:VCALENDAR
VERSION:2.0
PRODID:-//ChamberMaster//Event Calendar 2.0//EN
METHOD:PUBLISH
X-PUBLISHED-TTL:P3D
REFRESH-INTERVAL:P3D
CALSCALE:GREGORIAN
BEGIN:VEVENT
DTSTART:20241108T003000Z
DTEND:20241108T020000Z
X-MICROSOFT-CDO-ALLDAYEVENT:FALSE
SUMMARY:Barabrew Wisconsing Beer Choir at Con Amici
DESCRIPTION:They're back......The Barabrew Wisconsing Beer Choir\, an impromptu collaboration of beer drinking chorus goers\, on November 7th. Come on down\, grab a Bier....there will be specials\, it will be Sehr gut!
X-ALT-DESC;FMTTYPE=text/html:<span class="x193iq5w xeuugli x13faqbe x1vvkbs x1xmvt09 x1lliihq x1s928wv xhkezso x1gmr53x x1cpjm7i x1fgarty x1943h6x xudqn12 x3x7a5m x6prxxf xvq8zen xo1l8bm xzsf02u" dir="auto">They&#39\;re back......The Barabrew Wisconsing Beer Choir\, an impromptu collaboration of beer drinking chorus goers\, on November 7th. Come on down\, grab a Bier....there will be specials\, it will be Sehr gut!</span>
LOCATION:Con Amici 126 Third St. Downtown Baraboo
UID:e.110.62966
SEQUENCE:3
DTSTAMP:20260421T202129Z
URL:https://chamber.baraboo.com/events/details/barabrew-wisconsing-beer-choir-at-con-amici-62966
END:VEVENT

END:VCALENDAR
